BEGIN:VCALENDAR
VERSION:2.0
PRODID:-//Red River Authority of Texas - ECPv6.15.20//NONSGML v1.0//EN
CALSCALE:GREGORIAN
METHOD:PUBLISH
X-WR-CALNAME:Red River Authority of Texas
X-ORIGINAL-URL:https://rra.texas.gov
X-WR-CALDESC:Events for Red River Authority of Texas
REFRESH-INTERVAL;VALUE=DURATION:PT1H
X-Robots-Tag:noindex
X-PUBLISHED-TTL:PT1H
BEGIN:VTIMEZONE
TZID:America/Chicago
BEGIN:DAYLIGHT
TZOFFSETFROM:-0600
TZOFFSETTO:-0500
TZNAME:CDT
DTSTART:20250309T080000
END:DAYLIGHT
BEGIN:STANDARD
TZOFFSETFROM:-0500
TZOFFSETTO:-0600
TZNAME:CST
DTSTART:20251102T070000
END:STANDARD
BEGIN:DAYLIGHT
TZOFFSETFROM:-0600
TZOFFSETTO:-0500
TZNAME:CDT
DTSTART:20260308T080000
END:DAYLIGHT
BEGIN:STANDARD
TZOFFSETFROM:-0500
TZOFFSETTO:-0600
TZNAME:CST
DTSTART:20261101T070000
END:STANDARD
BEGIN:DAYLIGHT
TZOFFSETFROM:-0600
TZOFFSETTO:-0500
TZNAME:CDT
DTSTART:20270314T080000
END:DAYLIGHT
BEGIN:STANDARD
TZOFFSETFROM:-0500
TZOFFSETTO:-0600
TZNAME:CST
DTSTART:20271107T070000
END:STANDARD
END:VTIMEZONE
BEGIN:VEVENT
DTSTART;VALUE=DATE:20260304
DTEND;VALUE=DATE:20260306
DTSTAMP:20260420T004022
CREATED:20260107T211640Z
LAST-MODIFIED:20260107T211640Z
UID:2541-1772582400-1772755199@rra.texas.gov
SUMMARY:OSHA 10-Hour General Industry Class
DESCRIPTION:You must be a Texas resident or an employee currently working in Texas to register. \nTo attend\, the student must understand and communicate in the language of the course. \n The Texas Division of Workers’ Compensation (DWC) offers low-cost Occupational Safety and Health Administration (OSHA) 10-Hour General Industry classes in English and Spanish. The OSHA 10-hour class offers an interactive class participation through in-person instruction. The two-day or three-day courses are presented by authorized instructors and designed to instruct employers and their employees in the essentials of occupational safety and health in general industry. \n Classes cover OSHA standards and requirements as they apply to general industry\, and safety awareness to help in recognizing and reducing the risks of jobsite hazards. Participants who successfully complete all two days in-person or three days online will receive an OSHA 10-Hour General Industry class completion card (typically within six to eight weeks). \n Cost: $30
URL:https://rra.texas.gov/index.php/event/osha-10-hour-general-industry-class/
ATTACH;FMTTYPE=application/pdf:https://rra.texas.gov/wp-content/uploads/2026/01/Wichita-Falls-10HR-General-Industry-March-4-5-1.pdf
END:VEVENT
END:VCALENDAR